BEGIN:VCALENDAR
VERSION:2.0
PRODID:-//General Federation of Women's Clubs Kentucky - ECPv6.15.20//NONSGML v1.0//EN
CALSCALE:GREGORIAN
METHOD:PUBLISH
X-ORIGINAL-URL:https://gfwcky.org
X-WR-CALDESC:Events for General Federation of Women's Clubs Kentucky
REFRESH-INTERVAL;VALUE=DURATION:PT1H
X-Robots-Tag:noindex
X-PUBLISHED-TTL:PT1H
BEGIN:VTIMEZONE
TZID:UTC
BEGIN:STANDARD
TZOFFSETFROM:+0000
TZOFFSETTO:+0000
TZNAME:UTC
DTSTART:20250101T000000
END:STANDARD
END:VTIMEZONE
BEGIN:VEVENT
DTSTART;VALUE=DATE:20261003
DTEND;VALUE=DATE:20261004
DTSTAMP:20260425T134628
CREATED:20260209T010733Z
LAST-MODIFIED:20260211T021523Z
UID:1398-1790985600-1791071999@gfwcky.org
SUMMARY:Golden Fillies District Fall Conference
DESCRIPTION:
URL:https://gfwcky.org/event/golden-fillies-district-fall-conference/
LOCATION:KY
CATEGORIES:conference
END:VEVENT
BEGIN:VEVENT
DTSTART;VALUE=DATE:20261010
DTEND;VALUE=DATE:20261011
DTSTAMP:20260425T134628
CREATED:20260209T011054Z
LAST-MODIFIED:20260209T011054Z
UID:1400-1791590400-1791676799@gfwcky.org
SUMMARY:Mountain District Fall Conference
DESCRIPTION:
URL:https://gfwcky.org/event/mountain-district-fall-conference/
LOCATION:Morehead\, Morehead\, KY\, United States
CATEGORIES:conference
END:VEVENT
BEGIN:VEVENT
DTSTART;VALUE=DATE:20261016
DTEND;VALUE=DATE:20261019
DTSTAMP:20260425T134628
CREATED:20260209T011237Z
LAST-MODIFIED:20260209T011237Z
UID:1403-1792108800-1792367999@gfwcky.org
SUMMARY:Southeastern Region Conference
DESCRIPTION:
URL:https://gfwcky.org/event/southeastern-region-conference-2/
LOCATION:Chattanooga\, Chattanooga\, TN\, United States
CATEGORIES:conference
END:VEVENT
BEGIN:VEVENT
DTSTART;VALUE=DATE:20261020
DTEND;VALUE=DATE:20261027
DTSTAMP:20260425T134628
CREATED:20260209T011459Z
LAST-MODIFIED:20260209T011459Z
UID:1406-1792454400-1793059199@gfwcky.org
SUMMARY:Advocates for Children Week
DESCRIPTION:
URL:https://gfwcky.org/event/advocates-for-children-week/
LOCATION:KY
CATEGORIES:week of advocacy
END:VEVENT
BEGIN:VEVENT
DTSTART;VALUE=DATE:20261024
DTEND;VALUE=DATE:20261025
DTSTAMP:20260425T134628
CREATED:20260209T011742Z
LAST-MODIFIED:20260209T011742Z
UID:1408-1792800000-1792886399@gfwcky.org
SUMMARY:Western Waterways District Fall Conference
DESCRIPTION:
URL:https://gfwcky.org/event/western-waterways-district-fall-conference/
LOCATION:KY
CATEGORIES:conference
END:VEVENT
BEGIN:VEVENT
DTSTART;VALUE=DATE:20261031
DTEND;VALUE=DATE:20261101
DTSTAMP:20260425T134628
CREATED:20260209T011900Z
LAST-MODIFIED:20260209T011900Z
UID:1410-1793404800-1793491199@gfwcky.org
SUMMARY:Midwest District Fall Conference
DESCRIPTION:
URL:https://gfwcky.org/event/midwest-district-fall-conference/
LOCATION:KY
CATEGORIES:conference
END:VEVENT
BEGIN:VEVENT
DTSTART;VALUE=DATE:20261105
DTEND;VALUE=DATE:20261106
DTSTAMP:20260425T134628
CREATED:20260209T012532Z
LAST-MODIFIED:20260209T012532Z
UID:1416-1793836800-1793923199@gfwcky.org
SUMMARY:GFWC KY Publication Info Due
DESCRIPTION:Information is due to Jackie Howard by 11/05/2026.
URL:https://gfwcky.org/event/gfwc-ky-publication-info-due-3/
LOCATION:KY
CATEGORIES:deadline
END:VEVENT
BEGIN:VEVENT
DTSTART;VALUE=DATE:20261114
DTEND;VALUE=DATE:20261115
DTSTAMP:20260425T134628
CREATED:20260209T012704Z
LAST-MODIFIED:20260209T012704Z
UID:1418-1794614400-1794700799@gfwcky.org
SUMMARY:Friendsgiving
DESCRIPTION:More information to come!
URL:https://gfwcky.org/event/friendsgiving/
LOCATION:KY
CATEGORIES:party
END:VEVENT
BEGIN:VEVENT
DTSTART;VALUE=DATE:20261209
DTEND;VALUE=DATE:20261210
DTSTAMP:20260425T134628
CREATED:20260209T012809Z
LAST-MODIFIED:20260209T012809Z
UID:1420-1796774400-1796860799@gfwcky.org
SUMMARY:GFWC Holiday Open House
DESCRIPTION:
URL:https://gfwcky.org/event/gfwc-holiday-open-house/
LOCATION:Washington DC\, DC\, United States
CATEGORIES:party
END:VEVENT
BEGIN:VEVENT
DTSTART;VALUE=DATE:20270201
DTEND;VALUE=DATE:20270202
DTSTAMP:20260425T134628
CREATED:20260211T015626Z
LAST-MODIFIED:20260211T015626Z
UID:1422-1801440000-1801526399@gfwcky.org
SUMMARY:Club Reports Due to State Headquarters
DESCRIPTION:
URL:https://gfwcky.org/event/club-reports-due-to-state-headquarters/
LOCATION:KY
CATEGORIES:deadline
END:VEVENT
BEGIN:VEVENT
DTSTART;VALUE=DATE:20270205
DTEND;VALUE=DATE:20270206
DTSTAMP:20260425T134628
CREATED:20260211T015752Z
LAST-MODIFIED:20260211T015752Z
UID:1424-1801785600-1801871999@gfwcky.org
SUMMARY:GFWC KY Publication Info Due
DESCRIPTION:Information is due to Jackie Howard by 02/05/2027.
URL:https://gfwcky.org/event/gfwc-ky-publication-info-due-4/
LOCATION:KY
CATEGORIES:deadline
END:VEVENT
BEGIN:VEVENT
DTSTART;VALUE=DATE:20270303
DTEND;VALUE=DATE:20270304
DTSTAMP:20260425T134628
CREATED:20260211T015843Z
LAST-MODIFIED:20260211T015843Z
UID:1426-1804032000-1804118399@gfwcky.org
SUMMARY:GFWC Women's History Celebration
DESCRIPTION:
URL:https://gfwcky.org/event/gfwc-womens-history-celebration/
LOCATION:KY
CATEGORIES:party
END:VEVENT
BEGIN:VEVENT
DTSTART;VALUE=DATE:20270415
DTEND;VALUE=DATE:20270418
DTSTAMP:20260425T134628
CREATED:20260211T015935Z
LAST-MODIFIED:20260211T021610Z
UID:1428-1807747200-1808006399@gfwcky.org
SUMMARY:GFWC KY State Convention
DESCRIPTION:
URL:https://gfwcky.org/event/gfwc-ky-state-convention/
LOCATION:Lexington\, Lexington\, KY\, United States
CATEGORIES:conference
END:VEVENT
BEGIN:VEVENT
DTSTART;VALUE=DATE:20270420
DTEND;VALUE=DATE:20270427
DTSTAMP:20260425T134628
CREATED:20260211T020108Z
LAST-MODIFIED:20260211T020108Z
UID:1430-1808179200-1808783999@gfwcky.org
SUMMARY:GFWC Volunteers in Action Week
DESCRIPTION:
URL:https://gfwcky.org/event/gfwc-volunteers-in-action-week/
LOCATION:KY
CATEGORIES:week of advocacy
END:VEVENT
BEGIN:VEVENT
DTSTART;VALUE=DATE:20270424
DTEND;VALUE=DATE:20270425
DTSTAMP:20260425T134628
CREATED:20260211T020204Z
LAST-MODIFIED:20260211T020204Z
UID:1432-1808524800-1808611199@gfwcky.org
SUMMARY:Federation Day
DESCRIPTION:
URL:https://gfwcky.org/event/federation-day/
LOCATION:KY
CATEGORIES:day of service
END:VEVENT
BEGIN:VEVENT
DTSTART;VALUE=DATE:20270503
DTEND;VALUE=DATE:20270504
DTSTAMP:20260425T134628
CREATED:20260211T020314Z
LAST-MODIFIED:20260211T020314Z
UID:1434-1809302400-1809388799@gfwcky.org
SUMMARY:GFWC KY Publication Info Due
DESCRIPTION:Information due to Jackie Howard by 05/03/2027.
URL:https://gfwcky.org/event/gfwc-ky-publication-info-due-5/
LOCATION:KY
CATEGORIES:deadline
END:VEVENT
BEGIN:VEVENT
DTSTART;VALUE=DATE:20270625
DTEND;VALUE=DATE:20270629
DTSTAMP:20260425T134628
CREATED:20260211T020525Z
LAST-MODIFIED:20260211T020525Z
UID:1436-1813881600-1814227199@gfwcky.org
SUMMARY:GFWC International Convention
DESCRIPTION:
URL:https://gfwcky.org/event/gfwc-international-convention-3/
LOCATION:Charlotte\, Charlotte\, NC\, United States
CATEGORIES:conference
END:VEVENT
BEGIN:VEVENT
DTSTART;VALUE=DATE:20270805
DTEND;VALUE=DATE:20270806
DTSTAMP:20260425T134628
CREATED:20260211T020810Z
LAST-MODIFIED:20260211T020810Z
UID:1439-1817424000-1817510399@gfwcky.org
SUMMARY:GFWC KY Publication Info Due
DESCRIPTION:Information is due to Jackie Howard by 08/05/2027.
URL:https://gfwcky.org/event/gfwc-ky-publication-info-due-6/
LOCATION:KY
CATEGORIES:deadline
END:VEVENT
BEGIN:VEVENT
DTSTART;VALUE=DATE:20270925
DTEND;VALUE=DATE:20270926
DTSTAMP:20260425T134628
CREATED:20260211T020932Z
LAST-MODIFIED:20260211T020932Z
UID:1441-1821830400-1821916799@gfwcky.org
SUMMARY:GFWC International Day of Service
DESCRIPTION:
URL:https://gfwcky.org/event/gfwc-international-day-of-service-2/
LOCATION:KY
CATEGORIES:day of service
END:VEVENT
BEGIN:VEVENT
DTSTART;VALUE=DATE:20271019
DTEND;VALUE=DATE:20271026
DTSTAMP:20260425T134628
CREATED:20260211T021012Z
LAST-MODIFIED:20260211T021012Z
UID:1443-1823904000-1824508799@gfwcky.org
SUMMARY:Advocates for Children Week
DESCRIPTION:
URL:https://gfwcky.org/event/advocates-for-children-week-2/
LOCATION:KY
CATEGORIES:week of advocacy
END:VEVENT
BEGIN:VEVENT
DTSTART;VALUE=DATE:20271029
DTEND;VALUE=DATE:20271101
DTSTAMP:20260425T134628
CREATED:20260211T021129Z
LAST-MODIFIED:20260211T021129Z
UID:1445-1824768000-1825027199@gfwcky.org
SUMMARY:Southeastern Region Conference
DESCRIPTION:
URL:https://gfwcky.org/event/southeastern-region-conference-3/
LOCATION:Maryland\, MD\, United States
CATEGORIES:conference
END:VEVENT
BEGIN:VEVENT
DTSTART;VALUE=DATE:20271105
DTEND;VALUE=DATE:20271106
DTSTAMP:20260425T134628
CREATED:20260211T021255Z
LAST-MODIFIED:20260211T021255Z
UID:1448-1825372800-1825459199@gfwcky.org
SUMMARY:GFWC KY Publication Info Due
DESCRIPTION:Information is due to Jackie Howard by 11/05/2027.
URL:https://gfwcky.org/event/gfwc-ky-publication-info-due-7/
LOCATION:KY
CATEGORIES:party
END:VEVENT
BEGIN:VEVENT
DTSTART;VALUE=DATE:20271208
DTEND;VALUE=DATE:20271209
DTSTAMP:20260425T134628
CREATED:20260211T021347Z
LAST-MODIFIED:20260211T021347Z
UID:1450-1828224000-1828310399@gfwcky.org
SUMMARY:GFWC Holiday Open House
DESCRIPTION:
URL:https://gfwcky.org/event/gfwc-holiday-open-house-2/
LOCATION:Washington DC\, DC\, United States
CATEGORIES:party
END:VEVENT
END:VCALENDAR