BEGIN:VCALENDAR
VERSION:2.0
PRODID:-//General Federation of Women's Clubs Kentucky - ECPv6.15.20//NONSGML v1.0//EN
CALSCALE:GREGORIAN
METHOD:PUBLISH
X-WR-CALNAME:General Federation of Women's Clubs Kentucky
X-ORIGINAL-URL:https://gfwcky.org
X-WR-CALDESC:Events for General Federation of Women's Clubs Kentucky
REFRESH-INTERVAL;VALUE=DURATION:PT1H
X-Robots-Tag:noindex
X-PUBLISHED-TTL:PT1H
BEGIN:VTIMEZONE
TZID:UTC
BEGIN:STANDARD
TZOFFSETFROM:+0000
TZOFFSETTO:+0000
TZNAME:UTC
DTSTART:20230101T000000
END:STANDARD
END:VTIMEZONE
BEGIN:VEVENT
DTSTART;VALUE=DATE:20261114
DTEND;VALUE=DATE:20261115
DTSTAMP:20260426T041102
CREATED:20260209T012704Z
LAST-MODIFIED:20260209T012704Z
UID:1418-1794614400-1794700799@gfwcky.org
SUMMARY:Friendsgiving
DESCRIPTION:More information to come!
URL:https://gfwcky.org/event/friendsgiving/
LOCATION:DC
CATEGORIES:party
END:VEVENT
BEGIN:VEVENT
DTSTART;VALUE=DATE:20261105
DTEND;VALUE=DATE:20261106
DTSTAMP:20260426T041102
CREATED:20260209T012532Z
LAST-MODIFIED:20260209T012532Z
UID:1416-1793836800-1793923199@gfwcky.org
SUMMARY:GFWC KY Publication Info Due
DESCRIPTION:Information is due to Jackie Howard by 11/05/2026.
URL:https://gfwcky.org/event/gfwc-ky-publication-info-due-3/
LOCATION:DC
CATEGORIES:deadline
END:VEVENT
BEGIN:VEVENT
DTSTART;VALUE=DATE:20261031
DTEND;VALUE=DATE:20261101
DTSTAMP:20260426T041102
CREATED:20260209T011900Z
LAST-MODIFIED:20260209T011900Z
UID:1410-1793404800-1793491199@gfwcky.org
SUMMARY:Midwest District Fall Conference
DESCRIPTION:
URL:https://gfwcky.org/event/midwest-district-fall-conference/
LOCATION:DC
CATEGORIES:conference
END:VEVENT
BEGIN:VEVENT
DTSTART;VALUE=DATE:20261024
DTEND;VALUE=DATE:20261025
DTSTAMP:20260426T041102
CREATED:20260209T011742Z
LAST-MODIFIED:20260209T011742Z
UID:1408-1792800000-1792886399@gfwcky.org
SUMMARY:Western Waterways District Fall Conference
DESCRIPTION:
URL:https://gfwcky.org/event/western-waterways-district-fall-conference/
LOCATION:DC
CATEGORIES:conference
END:VEVENT
BEGIN:VEVENT
DTSTART;VALUE=DATE:20261020
DTEND;VALUE=DATE:20261027
DTSTAMP:20260426T041102
CREATED:20260209T011459Z
LAST-MODIFIED:20260209T011459Z
UID:1406-1792454400-1793059199@gfwcky.org
SUMMARY:Advocates for Children Week
DESCRIPTION:
URL:https://gfwcky.org/event/advocates-for-children-week/
LOCATION:DC
CATEGORIES:week of advocacy
END:VEVENT
BEGIN:VEVENT
DTSTART;VALUE=DATE:20261016
DTEND;VALUE=DATE:20261019
DTSTAMP:20260426T041102
CREATED:20260209T011237Z
LAST-MODIFIED:20260209T011237Z
UID:1403-1792108800-1792367999@gfwcky.org
SUMMARY:Southeastern Region Conference
DESCRIPTION:
URL:https://gfwcky.org/event/southeastern-region-conference-2/
LOCATION:Chattanooga\, Chattanooga\, TN\, United States
CATEGORIES:conference
END:VEVENT
BEGIN:VEVENT
DTSTART;VALUE=DATE:20261010
DTEND;VALUE=DATE:20261011
DTSTAMP:20260426T041102
CREATED:20260209T011054Z
LAST-MODIFIED:20260209T011054Z
UID:1400-1791590400-1791676799@gfwcky.org
SUMMARY:Mountain District Fall Conference
DESCRIPTION:
URL:https://gfwcky.org/event/mountain-district-fall-conference/
LOCATION:Morehead\, Morehead\, KY\, United States
CATEGORIES:conference
END:VEVENT
BEGIN:VEVENT
DTSTART;VALUE=DATE:20261003
DTEND;VALUE=DATE:20261004
DTSTAMP:20260426T041102
CREATED:20260209T010733Z
LAST-MODIFIED:20260211T021523Z
UID:1398-1790985600-1791071999@gfwcky.org
SUMMARY:Golden Fillies District Fall Conference
DESCRIPTION:
URL:https://gfwcky.org/event/golden-fillies-district-fall-conference/
LOCATION:DC
CATEGORIES:conference
END:VEVENT
BEGIN:VEVENT
DTSTART;VALUE=DATE:20260926
DTEND;VALUE=DATE:20260927
DTSTAMP:20260426T041102
CREATED:20260209T010641Z
LAST-MODIFIED:20260209T010641Z
UID:1396-1790380800-1790467199@gfwcky.org
SUMMARY:GFWC International Day of Service
DESCRIPTION:
URL:https://gfwcky.org/event/gfwc-international-day-of-service/
LOCATION:DC
CATEGORIES:day of service
END:VEVENT
BEGIN:VEVENT
DTSTART;VALUE=DATE:20260919
DTEND;VALUE=DATE:20260920
DTSTAMP:20260426T041102
CREATED:20260209T010528Z
LAST-MODIFIED:20260209T010528Z
UID:1394-1789776000-1789862399@gfwcky.org
SUMMARY:Gateway-Bluegrass District Fall Conference
DESCRIPTION:
URL:https://gfwcky.org/event/gateway-bluegrass-district-fall-conference/
LOCATION:DC
CATEGORIES:conference
END:VEVENT
BEGIN:VEVENT
DTSTART;VALUE=DATE:20260912
DTEND;VALUE=DATE:20260913
DTSTAMP:20260426T041102
CREATED:20260209T010342Z
LAST-MODIFIED:20260209T010342Z
UID:1392-1789171200-1789257599@gfwcky.org
SUMMARY:Cumberland District Fall Conference
DESCRIPTION:
URL:https://gfwcky.org/event/cumberland-district-fall-conference/
LOCATION:DC
CATEGORIES:conference
END:VEVENT
BEGIN:VEVENT
DTSTART;VALUE=DATE:20260827
DTEND;VALUE=DATE:20260831
DTSTAMP:20260426T041102
CREATED:20260209T010157Z
LAST-MODIFIED:20260209T010157Z
UID:1389-1787788800-1788134399@gfwcky.org
SUMMARY:GFWC Board of Directors Meeting
DESCRIPTION:
URL:https://gfwcky.org/event/gfwc-board-of-directors-meeting/
LOCATION:Washington DC\, DC\, United States
CATEGORIES:meeting
END:VEVENT
BEGIN:VEVENT
DTSTART;VALUE=DATE:20260805
DTEND;VALUE=DATE:20260806
DTSTAMP:20260426T041102
CREATED:20260209T012324Z
LAST-MODIFIED:20260209T012324Z
UID:1414-1785888000-1785974399@gfwcky.org
SUMMARY:GFWC KY Publication Info Due
DESCRIPTION:Information due to Jackie Howard by 08/05/2026.
URL:https://gfwcky.org/event/gfwc-ky-publication-info-due-2/
LOCATION:DC
CATEGORIES:deadline
END:VEVENT
BEGIN:VEVENT
DTSTART;VALUE=DATE:20260724
DTEND;VALUE=DATE:20260726
DTSTAMP:20260426T041102
CREATED:20260209T005830Z
LAST-MODIFIED:20260209T005830Z
UID:1387-1784851200-1785023999@gfwcky.org
SUMMARY:Summer Workshop
DESCRIPTION:
URL:https://gfwcky.org/event/summer-workshop-2/
LOCATION:Lexington\, Lexington\, KY\, United States
CATEGORIES:Workshop
END:VEVENT
BEGIN:VEVENT
DTSTART;VALUE=DATE:20260625
DTEND;VALUE=DATE:20260701
DTSTAMP:20260426T041102
CREATED:20260209T005744Z
LAST-MODIFIED:20260209T005744Z
UID:1385-1782345600-1782863999@gfwcky.org
SUMMARY:GFWC Annual Convention
DESCRIPTION:
URL:https://gfwcky.org/event/gfwc-annual-convention/
LOCATION:Scottsdale\, Scottsdale\, AZ\, United States
CATEGORIES:conference
END:VEVENT
BEGIN:VEVENT
DTSTART;VALUE=DATE:20260625
DTEND;VALUE=DATE:20260630
DTSTAMP:20260426T041102
CREATED:20240108T190040Z
LAST-MODIFIED:20240207T001259Z
UID:1145-1782345600-1782777599@gfwcky.org
SUMMARY:GFWC International Convention
DESCRIPTION:
URL:https://gfwcky.org/event/gfwc-convention-3/
LOCATION:Scottsdale\, Scottsdale\, AZ\, United States
CATEGORIES:conference
END:VEVENT
BEGIN:VEVENT
DTSTART;VALUE=DATE:20260505
DTEND;VALUE=DATE:20260506
DTSTAMP:20260426T041102
CREATED:20260209T012013Z
LAST-MODIFIED:20260209T012013Z
UID:1412-1777939200-1778025599@gfwcky.org
SUMMARY:GFWC KY Publication Info Due
DESCRIPTION:Info due to Jackie Howard by 05/05/2026.
URL:https://gfwcky.org/event/gfwc-ky-publication-info-due/
LOCATION:DC
CATEGORIES:deadline
END:VEVENT
BEGIN:VEVENT
DTSTART;VALUE=DATE:20260424
DTEND;VALUE=DATE:20260426
DTSTAMP:20260426T041102
CREATED:20230929T001702Z
LAST-MODIFIED:20240207T001223Z
UID:1135-1776988800-1777161599@gfwcky.org
SUMMARY:GFWC Kentucky Annual Convention
DESCRIPTION:
URL:https://gfwcky.org/event/annual-convention-2/
LOCATION:Clarion Hotel\, 1950 Newtown Pike\, Lexington\, KY\, 40511\, United States
CATEGORIES:conference
END:VEVENT
BEGIN:VEVENT
DTSTART;VALUE=DATE:20251023
DTEND;VALUE=DATE:20251027
DTSTAMP:20260426T041102
CREATED:20240108T190410Z
LAST-MODIFIED:20240108T190410Z
UID:1152-1761177600-1761523199@gfwcky.org
SUMMARY:Southeastern Region Conference
DESCRIPTION:
URL:https://gfwcky.org/event/southeastern-region-conference/
LOCATION:Virginia\, VA\, United States
CATEGORIES:conference
END:VEVENT
BEGIN:VEVENT
DTSTART;VALUE=DATE:20251018
DTEND;VALUE=DATE:20251019
DTSTAMP:20260426T041102
CREATED:20250814T014728Z
LAST-MODIFIED:20250814T014728Z
UID:1382-1760745600-1760831999@gfwcky.org
SUMMARY:Mountain District Conference
DESCRIPTION:
URL:https://gfwcky.org/event/mountain-district-conference/
LOCATION:Index Community Church\, 1749 West Main St.\, West Liberty\, KY\, 41472\, United States
CATEGORIES:conference
END:VEVENT
BEGIN:VEVENT
DTSTART;VALUE=DATE:20251011
DTEND;VALUE=DATE:20251012
DTSTAMP:20260426T041102
CREATED:20250814T014409Z
LAST-MODIFIED:20250814T014935Z
UID:1377-1760140800-1760227199@gfwcky.org
SUMMARY:Golden Fillies
DESCRIPTION:
URL:https://gfwcky.org/event/golden-fillies/
LOCATION:Grayson Co. Detention Center\, 320 Shaw Station Road\, Leitchfield\, KY\, 42754\, United States
CATEGORIES:conference
END:VEVENT
BEGIN:VEVENT
DTSTART;VALUE=DATE:20250927
DTEND;VALUE=DATE:20250928
DTSTAMP:20260426T041102
CREATED:20250814T014219Z
LAST-MODIFIED:20250814T014817Z
UID:1374-1758931200-1759017599@gfwcky.org
SUMMARY:Midwest District Conference
DESCRIPTION:
URL:https://gfwcky.org/event/midwest/
LOCATION:McLean County Public Library\, 116 East 2nd Street\, Livermore\, KY\, 42352\, United States
CATEGORIES:conference
END:VEVENT
BEGIN:VEVENT
DTSTART;VALUE=DATE:20250920
DTEND;VALUE=DATE:20250921
DTSTAMP:20260426T041102
CREATED:20250814T014026Z
LAST-MODIFIED:20250814T014914Z
UID:1372-1758326400-1758412799@gfwcky.org
SUMMARY:Gateway Through The Bluegrass
DESCRIPTION:
URL:https://gfwcky.org/event/gateway-through-the-bluegrass/
LOCATION:Broadway Christian Church\, 187 N Broadway\, Lexington\, KY\, 40507\, United States
CATEGORIES:conference
END:VEVENT
BEGIN:VEVENT
DTSTART;VALUE=DATE:20250913
DTEND;VALUE=DATE:20250914
DTSTAMP:20260426T041102
CREATED:20250814T013937Z
LAST-MODIFIED:20250814T014854Z
UID:1369-1757721600-1757807999@gfwcky.org
SUMMARY:Cumberland District Conference
DESCRIPTION:
URL:https://gfwcky.org/event/cumberland-district/
LOCATION:First United Methodist Church\, 312 North Main Street\, Barbourville\, KY\, 40906\, United States
CATEGORIES:conference
END:VEVENT
BEGIN:VEVENT
DTSTART;VALUE=DATE:20250906
DTEND;VALUE=DATE:20250907
DTSTAMP:20260426T041102
CREATED:20250814T013630Z
LAST-MODIFIED:20250814T014836Z
UID:1366-1757116800-1757203199@gfwcky.org
SUMMARY:Western Waterways
DESCRIPTION:
URL:https://gfwcky.org/event/western-waterways/
LOCATION:Murray Woman’s Clubhouse\, 704 Vine Street\, Murray\, KY\, 42071\, United States
CATEGORIES:conference
END:VEVENT
BEGIN:VEVENT
DTSTART;VALUE=DATE:20250718
DTEND;VALUE=DATE:20250720
DTSTAMP:20260426T041102
CREATED:20250326T020614Z
LAST-MODIFIED:20250326T020614Z
UID:1359-1752796800-1752969599@gfwcky.org
SUMMARY:Summer Summit
DESCRIPTION:
URL:https://gfwcky.org/event/summer-summit/
LOCATION:Clarion Hotel\, 1950 Newtown Pike\, Lexington\, KY\, 40511\, United States
CATEGORIES:conference
END:VEVENT
BEGIN:VEVENT
DTSTART;VALUE=DATE:20250605
DTEND;VALUE=DATE:20250610
DTSTAMP:20260426T041102
CREATED:20240108T185726Z
LAST-MODIFIED:20240207T004640Z
UID:1142-1749081600-1749513599@gfwcky.org
SUMMARY:GFWC International Convention
DESCRIPTION:
URL:https://gfwcky.org/event/gfwc-convention-2/
LOCATION:Atlanta\, Atlanta\, GA\, United States
CATEGORIES:conference
END:VEVENT
BEGIN:VEVENT
DTSTART;VALUE=DATE:20250328
DTEND;VALUE=DATE:20250330
DTSTAMP:20260426T041102
CREATED:20230929T001510Z
LAST-MODIFIED:20240207T001154Z
UID:1133-1743120000-1743292799@gfwcky.org
SUMMARY:GFWC Kentucky Annual Convention
DESCRIPTION:
URL:https://gfwcky.org/event/annual-convention/
LOCATION:Clarion Hotel\, 1950 Newtown Pike\, Lexington\, KY\, 40511\, United States
CATEGORIES:conference
END:VEVENT
BEGIN:VEVENT
DTSTART;VALUE=DATE:20241024
DTEND;VALUE=DATE:20241028
DTSTAMP:20260426T041102
CREATED:20240108T190223Z
LAST-MODIFIED:20240108T190236Z
UID:1148-1729728000-1730073599@gfwcky.org
SUMMARY:Southeastern Region Conference
DESCRIPTION:
URL:https://gfwcky.org/event/southeaster-region-conference/
LOCATION:North Carolina\, NC\, United States
CATEGORIES:conference
END:VEVENT
BEGIN:VEVENT
DTSTART;VALUE=DATE:20241019
DTEND;VALUE=DATE:20241020
DTSTAMP:20260426T041102
CREATED:20240509T134042Z
LAST-MODIFIED:20240509T134042Z
UID:1269-1729296000-1729382399@gfwcky.org
SUMMARY:Mountain District (7/8) Meeting
DESCRIPTION:
URL:https://gfwcky.org/event/mountain-district-7-8-meeting/
LOCATION:DC
CATEGORIES:meeting
END:VEVENT
END:VCALENDAR