BEGIN:VCALENDAR
VERSION:2.0
PRODID:-//General Federation of Women's Clubs Kentucky - ECPv6.15.20//NONSGML v1.0//EN
CALSCALE:GREGORIAN
METHOD:PUBLISH
X-ORIGINAL-URL:https://gfwcky.org
X-WR-CALDESC:Events for General Federation of Women's Clubs Kentucky
REFRESH-INTERVAL;VALUE=DURATION:PT1H
X-Robots-Tag:noindex
X-PUBLISHED-TTL:PT1H
BEGIN:VTIMEZONE
TZID:UTC
BEGIN:STANDARD
TZOFFSETFROM:+0000
TZOFFSETTO:+0000
TZNAME:UTC
DTSTART:20220101T000000
END:STANDARD
END:VTIMEZONE
BEGIN:VTIMEZONE
TZID:America/Kentucky/Louisville
BEGIN:DAYLIGHT
TZOFFSETFROM:-0500
TZOFFSETTO:-0400
TZNAME:EDT
DTSTART:20210314T070000
END:DAYLIGHT
BEGIN:STANDARD
TZOFFSETFROM:-0400
TZOFFSETTO:-0500
TZNAME:EST
DTSTART:20211107T060000
END:STANDARD
BEGIN:DAYLIGHT
TZOFFSETFROM:-0500
TZOFFSETTO:-0400
TZNAME:EDT
DTSTART:20220313T070000
END:DAYLIGHT
BEGIN:STANDARD
TZOFFSETFROM:-0400
TZOFFSETTO:-0500
TZNAME:EST
DTSTART:20221106T060000
END:STANDARD
BEGIN:DAYLIGHT
TZOFFSETFROM:-0500
TZOFFSETTO:-0400
TZNAME:EDT
DTSTART:20230312T070000
END:DAYLIGHT
BEGIN:STANDARD
TZOFFSETFROM:-0400
TZOFFSETTO:-0500
TZNAME:EST
DTSTART:20231105T060000
END:STANDARD
BEGIN:DAYLIGHT
TZOFFSETFROM:-0500
TZOFFSETTO:-0400
TZNAME:EDT
DTSTART:20240310T070000
END:DAYLIGHT
BEGIN:STANDARD
TZOFFSETFROM:-0400
TZOFFSETTO:-0500
TZNAME:EST
DTSTART:20241103T060000
END:STANDARD
END:VTIMEZONE
BEGIN:VEVENT
DTSTART;VALUE=DATE:20241019
DTEND;VALUE=DATE:20241020
DTSTAMP:20260425T152943
CREATED:20240509T134042Z
LAST-MODIFIED:20240509T134042Z
UID:1269-1729296000-1729382399@gfwcky.org
SUMMARY:Mountain District (7/8) Meeting
DESCRIPTION:
URL:https://gfwcky.org/event/mountain-district-7-8-meeting/
LOCATION:DC
CATEGORIES:meeting
END:VEVENT
BEGIN:VEVENT
DTSTART;VALUE=DATE:20241012
DTEND;VALUE=DATE:20241013
DTSTAMP:20260425T152943
CREATED:20240509T133955Z
LAST-MODIFIED:20240509T133955Z
UID:1267-1728691200-1728777599@gfwcky.org
SUMMARY:Golden Fillies (3/4 Districts) Meeting
DESCRIPTION:
URL:https://gfwcky.org/event/golden-fillies-3-4-districts-meeting/
LOCATION:DC
CATEGORIES:meeting
END:VEVENT
BEGIN:VEVENT
DTSTART;TZID=UTC:20241005T080000
DTEND;TZID=UTC:20241005T170000
DTSTAMP:20260425T152943
CREATED:20240509T133903Z
LAST-MODIFIED:20240509T133903Z
UID:1265-1728115200-1728147600@gfwcky.org
SUMMARY:Gateway Through the Bluegrass (5/6 Districts) Meeting
DESCRIPTION:
URL:https://gfwcky.org/event/gateway-through-the-bluegrass-5-6-districts-meeting/
LOCATION:DC
CATEGORIES:meeting
END:VEVENT
BEGIN:VEVENT
DTSTART;VALUE=DATE:20240921
DTEND;VALUE=DATE:20240922
DTSTAMP:20260425T152943
CREATED:20240509T133723Z
LAST-MODIFIED:20240509T133723Z
UID:1263-1726876800-1726963199@gfwcky.org
SUMMARY:Cumberland District (9th District) Meeting
DESCRIPTION:
URL:https://gfwcky.org/event/cumberland-district-9th-district-meeting/
LOCATION:DC
CATEGORIES:meeting
END:VEVENT
BEGIN:VEVENT
DTSTART;VALUE=DATE:20240914
DTEND;VALUE=DATE:20240915
DTSTAMP:20260425T152943
CREATED:20240509T133633Z
LAST-MODIFIED:20240509T133633Z
UID:1261-1726272000-1726358399@gfwcky.org
SUMMARY:Western Waterways District (1st District) Meeting
DESCRIPTION:
URL:https://gfwcky.org/event/western-waterways-district-1st-district-meeting/
LOCATION:DC
CATEGORIES:meeting
END:VEVENT
BEGIN:VEVENT
DTSTART;VALUE=DATE:20240907
DTEND;VALUE=DATE:20240908
DTSTAMP:20260425T152943
CREATED:20240509T133514Z
LAST-MODIFIED:20240509T133514Z
UID:1259-1725667200-1725753599@gfwcky.org
SUMMARY:2nd District Meeting
DESCRIPTION:
URL:https://gfwcky.org/event/2nd-district-meeting/
LOCATION:DC
CATEGORIES:meeting
END:VEVENT
BEGIN:VEVENT
DTSTART;VALUE=DATE:20231102
DTEND;VALUE=DATE:20231106
DTSTAMP:20260425T152943
CREATED:20230131T005128Z
LAST-MODIFIED:20230131T005128Z
UID:1055-1698883200-1699228799@gfwcky.org
SUMMARY:Southeastern Regional Meeting
DESCRIPTION:
URL:https://gfwcky.org/event/southeastern-regional-meeting/
LOCATION:West Virginia\, WV\, United States
CATEGORIES:meeting
END:VEVENT
BEGIN:VEVENT
DTSTART;VALUE=DATE:20231028
DTEND;VALUE=DATE:20231029
DTSTAMP:20260425T152943
CREATED:20221115T150448Z
LAST-MODIFIED:20221115T150448Z
UID:1012-1698451200-1698537599@gfwcky.org
SUMMARY:District 9 Meeting
DESCRIPTION:
URL:https://gfwcky.org/event/district-9-meeting/
LOCATION:Somerset\, Kentucky\, Somerset\, KY\, 42502\, United States
CATEGORIES:meeting
END:VEVENT
BEGIN:VEVENT
DTSTART;VALUE=DATE:20231021
DTEND;VALUE=DATE:20231022
DTSTAMP:20260425T152943
CREATED:20221115T150249Z
LAST-MODIFIED:20221115T150511Z
UID:1009-1697846400-1697932799@gfwcky.org
SUMMARY:District 1 Meeting
DESCRIPTION:
URL:https://gfwcky.org/event/district-1-meeting/
LOCATION:Murray\, Kentucky\, KY\, 42071\, United States
CATEGORIES:meeting
END:VEVENT
BEGIN:VEVENT
DTSTART;VALUE=DATE:20230923
DTEND;VALUE=DATE:20230924
DTSTAMP:20260425T152943
CREATED:20221115T145859Z
LAST-MODIFIED:20221115T145937Z
UID:1005-1695427200-1695513599@gfwcky.org
SUMMARY:District 2 Meeting
DESCRIPTION:
URL:https://gfwcky.org/event/district-2-meeting/
LOCATION:Madisonville\, Kentucky\, Madisonville\, KY\, 42431\, United States
CATEGORIES:meeting
END:VEVENT
BEGIN:VEVENT
DTSTART;VALUE=DATE:20230916
DTEND;VALUE=DATE:20230917
DTSTAMP:20260425T152943
CREATED:20221115T145613Z
LAST-MODIFIED:20221115T145952Z
UID:1002-1694822400-1694908799@gfwcky.org
SUMMARY:District 7/8 Meeting
DESCRIPTION:
URL:https://gfwcky.org/event/district-7-8-meeting/
LOCATION:Jackson\, Kentucky\, Jackson\, KY\, 41339\, United States
CATEGORIES:meeting
END:VEVENT
BEGIN:VEVENT
DTSTART;VALUE=DATE:20230812
DTEND;VALUE=DATE:20230813
DTSTAMP:20260425T152943
CREATED:20230131T004433Z
LAST-MODIFIED:20230131T004433Z
UID:1050-1691798400-1691884799@gfwcky.org
SUMMARY:Executive Committee Meeting
DESCRIPTION:
URL:https://gfwcky.org/event/executive-committee-meeting-4/
LOCATION:Frankfort\, Frankfort\, KY\, United States
CATEGORIES:meeting
END:VEVENT
BEGIN:VEVENT
DTSTART;VALUE=DATE:20230520
DTEND;VALUE=DATE:20230521
DTSTAMP:20260425T152943
CREATED:20230131T004240Z
LAST-MODIFIED:20230131T004240Z
UID:1048-1684540800-1684627199@gfwcky.org
SUMMARY:Executive Committee Meeting
DESCRIPTION:
URL:https://gfwcky.org/event/executive-committee-meeting-3/
LOCATION:Frankfort\, Frankfort\, KY\, United States
CATEGORIES:meeting
END:VEVENT
BEGIN:VEVENT
DTSTART;VALUE=DATE:20230422
DTEND;VALUE=DATE:20230423
DTSTAMP:20260425T152943
CREATED:20230131T004057Z
LAST-MODIFIED:20230131T004057Z
UID:1046-1682121600-1682207999@gfwcky.org
SUMMARY:Executive Committee Meeting
DESCRIPTION:
URL:https://gfwcky.org/event/executive-committee-meeting-2/
LOCATION:Frankfort\, Frankfort\, KY\, United States
CATEGORIES:meeting
END:VEVENT
BEGIN:VEVENT
DTSTART;VALUE=DATE:20230301
DTEND;VALUE=DATE:20230302
DTSTAMP:20260425T152943
CREATED:20230131T002741Z
LAST-MODIFIED:20230131T002741Z
UID:1039-1677628800-1677715199@gfwcky.org
SUMMARY:WHRC Program
DESCRIPTION:
URL:https://gfwcky.org/event/whrc-program/
LOCATION:GFWC Headquarters\, 1734 N St NW #1\, Washington\, D.C.\, DC\, 20036\, United States
CATEGORIES:meeting
END:VEVENT
BEGIN:VEVENT
DTSTART;VALUE=DATE:20221112
DTEND;VALUE=DATE:20221113
DTSTAMP:20260425T152943
CREATED:20221001T235117Z
LAST-MODIFIED:20221011T180603Z
UID:942-1668211200-1668297599@gfwcky.org
SUMMARY:Executive Committee Meeting
DESCRIPTION:
URL:https://gfwcky.org/event/executive-committee-meeting/
LOCATION:frankfrt\, Frankfort\, KY\, United States
CATEGORIES:meeting
END:VEVENT
BEGIN:VEVENT
DTSTART;TZID=America/Kentucky/Louisville:20221022T090000
DTEND;TZID=America/Kentucky/Louisville:20221022T113000
DTSTAMP:20260425T152943
CREATED:20221001T234408Z
LAST-MODIFIED:20221010T225158Z
UID:934-1666429200-1666438200@gfwcky.org
SUMMARY:7th/8th District Meeting
DESCRIPTION:
URL:https://gfwcky.org/event/7th-8th-district-meeting/
LOCATION:Breakers Resort\, Elkhorn City\, KY\, United States
CATEGORIES:meeting
END:VEVENT
BEGIN:VEVENT
DTSTART;TZID=America/Kentucky/Louisville:20221015T090000
DTEND;TZID=America/Kentucky/Louisville:20221015T113000
DTSTAMP:20260425T152943
CREATED:20221001T233944Z
LAST-MODIFIED:20221010T224810Z
UID:931-1665824400-1665833400@gfwcky.org
SUMMARY:3rd/4th District Meeting
DESCRIPTION:The 3rd/4th district meeting will be at Beulah Presbyterian Church and will start at 9 am.
URL:https://gfwcky.org/event/3rd-4th-district-meeting/
LOCATION:Beulah Presbyterian Church\, 6704 Bardstown Road\, Louisville\, KY\, 40291\, United States
CATEGORIES:meeting
END:VEVENT
BEGIN:VEVENT
DTSTART;VALUE=DATE:20221001
DTEND;VALUE=DATE:20221002
DTSTAMP:20260425T152943
CREATED:20221001T233158Z
LAST-MODIFIED:20221011T130804Z
UID:926-1664582400-1664668799@gfwcky.org
SUMMARY:5th/6th District Meeting
DESCRIPTION:The meeting for the 5th/6th District will be at Broadway Christian Church and will start at 9 am.
URL:https://gfwcky.org/event/5th-6th-district-meeting/
LOCATION:Broadway Christian Church\, 187 N Broadway\, Lexington\, KY\, 40507\, United States
CATEGORIES:meeting
ATTACH;FMTTYPE=image/jpeg:https://gfwcky.org/wp-content/uploads/gfwcky.jpeg
END:VEVENT
END:VCALENDAR