BEGIN:VCALENDAR
VERSION:2.0
PRODID:-//General Federation of Women's Clubs Kentucky - ECPv6.15.20//NONSGML v1.0//EN
CALSCALE:GREGORIAN
METHOD:PUBLISH
X-ORIGINAL-URL:https://gfwcky.org
X-WR-CALDESC:Events for General Federation of Women's Clubs Kentucky
REFRESH-INTERVAL;VALUE=DURATION:PT1H
X-Robots-Tag:noindex
X-PUBLISHED-TTL:PT1H
BEGIN:VTIMEZONE
TZID:UTC
BEGIN:STANDARD
TZOFFSETFROM:+0000
TZOFFSETTO:+0000
TZNAME:UTC
DTSTART:20220101T000000
END:STANDARD
END:VTIMEZONE
BEGIN:VTIMEZONE
TZID:America/Kentucky/Louisville
BEGIN:DAYLIGHT
TZOFFSETFROM:-0500
TZOFFSETTO:-0400
TZNAME:EDT
DTSTART:20210314T070000
END:DAYLIGHT
BEGIN:STANDARD
TZOFFSETFROM:-0400
TZOFFSETTO:-0500
TZNAME:EST
DTSTART:20211107T060000
END:STANDARD
BEGIN:DAYLIGHT
TZOFFSETFROM:-0500
TZOFFSETTO:-0400
TZNAME:EDT
DTSTART:20220313T070000
END:DAYLIGHT
BEGIN:STANDARD
TZOFFSETFROM:-0400
TZOFFSETTO:-0500
TZNAME:EST
DTSTART:20221106T060000
END:STANDARD
BEGIN:DAYLIGHT
TZOFFSETFROM:-0500
TZOFFSETTO:-0400
TZNAME:EDT
DTSTART:20230312T070000
END:DAYLIGHT
BEGIN:STANDARD
TZOFFSETFROM:-0400
TZOFFSETTO:-0500
TZNAME:EST
DTSTART:20231105T060000
END:STANDARD
BEGIN:DAYLIGHT
TZOFFSETFROM:-0500
TZOFFSETTO:-0400
TZNAME:EDT
DTSTART:20240310T070000
END:DAYLIGHT
BEGIN:STANDARD
TZOFFSETFROM:-0400
TZOFFSETTO:-0500
TZNAME:EST
DTSTART:20241103T060000
END:STANDARD
END:VTIMEZONE
BEGIN:VEVENT
DTSTART;VALUE=DATE:20241024
DTEND;VALUE=DATE:20241028
DTSTAMP:20260425T164546
CREATED:20240108T190223Z
LAST-MODIFIED:20240108T190236Z
UID:1148-1729728000-1730073599@gfwcky.org
SUMMARY:Southeastern Region Conference
DESCRIPTION:
URL:https://gfwcky.org/event/southeaster-region-conference/
LOCATION:North Carolina\, NC\, United States
CATEGORIES:conference
END:VEVENT
BEGIN:VEVENT
DTSTART;VALUE=DATE:20240627
DTEND;VALUE=DATE:20240703
DTSTAMP:20260425T164546
CREATED:20240108T192025Z
LAST-MODIFIED:20240108T192025Z
UID:1160-1719446400-1719964799@gfwcky.org
SUMMARY:GFWC International Convention
DESCRIPTION:
URL:https://gfwcky.org/event/gfwc-international-convention-2/
LOCATION:Chicago\, Chicago\, IL\, United States
CATEGORIES:conference
END:VEVENT
BEGIN:VEVENT
DTSTART;VALUE=DATE:20240321
DTEND;VALUE=DATE:20240324
DTSTAMP:20260425T164546
CREATED:20240108T191815Z
LAST-MODIFIED:20240108T191815Z
UID:1155-1710979200-1711238399@gfwcky.org
SUMMARY:GFWC Kentucky Annual Convention
DESCRIPTION:
URL:https://gfwcky.org/event/gfwc-kentucky-annual-convention/
LOCATION:Marriott Griffin Gate\, 1800 Newtown Pike\, Lexington\, KY\, 40511\, United States
CATEGORIES:conference
END:VEVENT
BEGIN:VEVENT
DTSTART;VALUE=DATE:20230608
DTEND;VALUE=DATE:20230613
DTSTAMP:20260425T164546
CREATED:20230120T004953Z
LAST-MODIFIED:20230120T004953Z
UID:1031-1686182400-1686614399@gfwcky.org
SUMMARY:GFWC International Convention
DESCRIPTION:
URL:https://gfwcky.org/event/gfwc-international-convention/
LOCATION:Downtown Marriott\, 280 W. Jefferson Street\, Louisville\, KY\, 40202\, United States
CATEGORIES:conference
END:VEVENT
BEGIN:VEVENT
DTSTART;VALUE=DATE:20230323
DTEND;VALUE=DATE:20230326
DTSTAMP:20260425T164546
CREATED:20230120T011029Z
LAST-MODIFIED:20230120T011029Z
UID:1036-1679529600-1679788799@gfwcky.org
SUMMARY:GFWC KY State Conference
DESCRIPTION:
URL:https://gfwcky.org/event/gfwc-ky-state-conference/
LOCATION:Clarion Hotel\, 1950 Newtown Pike\, Lexington\, KY\, 40511\, United States
CATEGORIES:conference
END:VEVENT
BEGIN:VEVENT
DTSTART;VALUE=DATE:20221027
DTEND;VALUE=DATE:20221030
DTSTAMP:20260425T164546
CREATED:20221001T234817Z
LAST-MODIFIED:20221010T225127Z
UID:937-1666828800-1667087999@gfwcky.org
SUMMARY:Southeastern Regional Conference
DESCRIPTION:
URL:https://gfwcky.org/event/southeastern-regional-conference/
LOCATION:Lexington\, Lexington\, KY\, United States
CATEGORIES:conference
END:VEVENT
END:VCALENDAR