BEGIN:VCALENDAR
VERSION:2.0
PRODID:-//General Federation of Women's Clubs Kentucky - ECPv6.15.20//NONSGML v1.0//EN
CALSCALE:GREGORIAN
METHOD:PUBLISH
X-ORIGINAL-URL:https://gfwcky.org
X-WR-CALDESC:Events for General Federation of Women's Clubs Kentucky
REFRESH-INTERVAL;VALUE=DURATION:PT1H
X-Robots-Tag:noindex
X-PUBLISHED-TTL:PT1H
BEGIN:VTIMEZONE
TZID:UTC
BEGIN:STANDARD
TZOFFSETFROM:+0000
TZOFFSETTO:+0000
TZNAME:UTC
DTSTART:20250101T000000
END:STANDARD
END:VTIMEZONE
BEGIN:VEVENT
DTSTART;VALUE=DATE:20261020
DTEND;VALUE=DATE:20261027
DTSTAMP:20260425T231416
CREATED:20260209T011459Z
LAST-MODIFIED:20260209T011459Z
UID:1406-1792454400-1793059199@gfwcky.org
SUMMARY:Advocates for Children Week
DESCRIPTION:
URL:https://gfwcky.org/event/advocates-for-children-week/
LOCATION:DC
CATEGORIES:week of advocacy
END:VEVENT
END:VCALENDAR