BEGIN:VCALENDAR
VERSION:2.0
PRODID:-//General Federation of Women's Clubs Kentucky - ECPv6.15.20//NONSGML v1.0//EN
CALSCALE:GREGORIAN
METHOD:PUBLISH
X-ORIGINAL-URL:https://gfwcky.org
X-WR-CALDESC:Events for General Federation of Women's Clubs Kentucky
REFRESH-INTERVAL;VALUE=DURATION:PT1H
X-Robots-Tag:noindex
X-PUBLISHED-TTL:PT1H
BEGIN:VTIMEZONE
TZID:UTC
BEGIN:STANDARD
TZOFFSETFROM:+0000
TZOFFSETTO:+0000
TZNAME:UTC
DTSTART:20240101T000000
END:STANDARD
END:VTIMEZONE
BEGIN:VEVENT
DTSTART;VALUE=DATE:20251018
DTEND;VALUE=DATE:20251019
DTSTAMP:20260425T231417
CREATED:20250814T014728Z
LAST-MODIFIED:20250814T014728Z
UID:1382-1760745600-1760831999@gfwcky.org
SUMMARY:Mountain District Conference
DESCRIPTION:
URL:https://gfwcky.org/event/mountain-district-conference/
LOCATION:Index Community Church\, 1749 West Main St.\, West Liberty\, KY\, 41472\, United States
CATEGORIES:conference
END:VEVENT
END:VCALENDAR